BEGIN:VCALENDAR
VERSION:2.0
PRODID:-//LearnServe International - ECPv6.13.2.1//NONSGML v1.0//EN
CALSCALE:GREGORIAN
METHOD:PUBLISH
X-ORIGINAL-URL:https://learn-serve.org
X-WR-CALDESC:Events for LearnServe International
REFRESH-INTERVAL;VALUE=DURATION:PT1H
X-Robots-Tag:noindex
X-PUBLISHED-TTL:PT1H
BEGIN:VTIMEZONE
TZID:UTC
BEGIN:STANDARD
TZOFFSETFROM:+0000
TZOFFSETTO:+0000
TZNAME:UTC
DTSTART:20170101T000000
END:STANDARD
END:VTIMEZONE
BEGIN:VEVENT
DTSTART;TZID=UTC:20171206T180000
DTEND;TZID=UTC:20171206T200000
DTSTAMP:20260423T201144
CREATED:20170820T200832Z
LAST-MODIFIED:20170820T200832Z
UID:1322-1512583200-1512590400@learn-serve.org
SUMMARY:LearnServe Innovators' Coffee House
DESCRIPTION:Come meet our new class of LearnServe Fellows! This inspiring group is dedicated to making a difference in their communities and schools through social innovation. Join us as they debut their social venture ideas for the public through 30-second elevator pitch presentations. \nWant to volunteer for this event? Contact us to find out how.
URL:https://learn-serve.org/event/learnserve-innovators-coffee-house/
CATEGORIES:Special Events
ATTACH;FMTTYPE=:
END:VEVENT
END:VCALENDAR